BEGIN:VCALENDAR
VERSION:2.0
PRODID:-//Genesis Church - ECPv6.15.12.2//NONSGML v1.0//EN
CALSCALE:GREGORIAN
METHOD:PUBLISH
X-WR-CALNAME:Genesis Church
X-ORIGINAL-URL:https://genesis-church.com
X-WR-CALDESC:Events for Genesis Church
REFRESH-INTERVAL;VALUE=DURATION:PT1H
X-Robots-Tag:noindex
X-PUBLISHED-TTL:PT1H
BEGIN:VTIMEZONE
TZID:UTC
BEGIN:STANDARD
TZOFFSETFROM:+0000
TZOFFSETTO:+0000
TZNAME:UTC
DTSTART:20230101T000000
END:STANDARD
END:VTIMEZONE
BEGIN:VEVENT
DTSTART;TZID=UTC:20240413T173000
DTEND;TZID=UTC:20240413T193000
DTSTAMP:20260419T130857
CREATED:20240307T204303Z
LAST-MODIFIED:20240318T170956Z
UID:1119-1713029400-1713036600@genesis-church.com
SUMMARY:Amp Fundraiser
DESCRIPTION:Join us in investing in the next generation by helping send our AMP high school students to a transformative five-day event in California. \nIf you’re ready for delicious food and a fun time\, register here.
URL:https://genesis-church.com/event/amp-fundraiser/
LOCATION:Genesis Church
CATEGORIES:Carousel
ATTACH;FMTTYPE=image/jpeg:https://genesis-church.com/wp-content/uploads/2024/03/unnamed-2.jpg
END:VEVENT
BEGIN:VEVENT
DTSTART;TZID=UTC:20240112T080000
DTEND;TZID=UTC:20240114T170000
DTSTAMP:20260419T130857
CREATED:20231116T183611Z
LAST-MODIFIED:20231206T171244Z
UID:989-1705046400-1705251600@genesis-church.com
SUMMARY:Mexico Mission Trip
DESCRIPTION:We are building a food storage shed for an orphanage in Ciudad Morales\, Mexico (12 miles south of Los Algodones). \nUp to 20 people can join us. The $200 includes the cost of the van and trailer rental\, as well as food and lodging. \nWe are hosting a meeting Sunday\, December 3rd after service. \nFor more information\, contact Shari Roach at:\nswawrzyniak7@gmail.com
URL:https://genesis-church.com/event/mexico-mission-trip/
LOCATION:Aqua De Vida Orphanage\, Mexico
CATEGORIES:Carousel
ATTACH;FMTTYPE=image/jpeg:https://genesis-church.com/wp-content/uploads/2023/11/Mexico-Missions-Graphic.jpg
END:VEVENT
END:VCALENDAR