BEGIN:VCALENDAR
VERSION:2.0
PRODID:-//Genesis Church - ECPv6.15.12.2//NONSGML v1.0//EN
CALSCALE:GREGORIAN
METHOD:PUBLISH
X-ORIGINAL-URL:https://genesis-church.com
X-WR-CALDESC:Events for Genesis Church
REFRESH-INTERVAL;VALUE=DURATION:PT1H
X-Robots-Tag:noindex
X-PUBLISHED-TTL:PT1H
BEGIN:VTIMEZONE
TZID:UTC
BEGIN:STANDARD
TZOFFSETFROM:+0000
TZOFFSETTO:+0000
TZNAME:UTC
DTSTART:20230101T000000
END:STANDARD
END:VTIMEZONE
BEGIN:VEVENT
DTSTART;VALUE=DATE:20240715
DTEND;VALUE=DATE:20240720
DTSTAMP:20260419T132537
CREATED:20240626T204531Z
LAST-MODIFIED:20240626T204531Z
UID:1237-1721001600-1721433599@genesis-church.com
SUMMARY:CHURCH OFFICE IS CLOSED
DESCRIPTION:
URL:https://genesis-church.com/event/church-office-is-closed/
CATEGORIES:Carousel
ATTACH;FMTTYPE=image/jpeg:https://genesis-church.com/wp-content/uploads/2024/06/Neutral-Green-Modern-Out-Of-Office-Holiday-Instagram-Post.jpg
END:VEVENT
BEGIN:VEVENT
DTSTART;VALUE=DATE:20241018
DTEND;VALUE=DATE:20241021
DTSTAMP:20260419T132537
CREATED:20240410T201939Z
LAST-MODIFIED:20240612T194048Z
UID:1153-1729209600-1729468799@genesis-church.com
SUMMARY:Mexico Mission
DESCRIPTION:We are sending another team to Agua De Vida Orphanage to provide much-needed aid. If you are ready to make a difference\, sign up here.
URL:https://genesis-church.com/event/mexico-mission/
LOCATION:Aqua De Vida Orphanage\, Mexico
CATEGORIES:Carousel
ATTACH;FMTTYPE=image/jpeg:https://genesis-church.com/wp-content/uploads/2024/04/Mexico-Mission-Blank.jpg
END:VEVENT
BEGIN:VEVENT
DTSTART;TZID=UTC:20250110T183000
DTEND;TZID=UTC:20250110T200000
DTSTAMP:20260419T132537
CREATED:20241230T194034Z
LAST-MODIFIED:20241230T194034Z
UID:1392-1736533800-1736539200@genesis-church.com
SUMMARY:Vision Night
DESCRIPTION:Join us for a time of prayer\, worship\, and a glimpse of what God has planned for Genesis for 2025.
URL:https://genesis-church.com/event/vision-night/
LOCATION:Genesis Church
CATEGORIES:Carousel
ATTACH;FMTTYPE=image/jpeg:https://genesis-church.com/wp-content/uploads/2024/12/unnamed-1-1.jpg
END:VEVENT
BEGIN:VEVENT
DTSTART;TZID=UTC:20250119T080000
DTEND;TZID=UTC:20250119T170000
DTSTAMP:20260419T132537
CREATED:20250119T163748Z
LAST-MODIFIED:20250119T163748Z
UID:1418-1737273600-1737306000@genesis-church.com
SUMMARY:Out of Office
DESCRIPTION:
URL:https://genesis-church.com/event/out-of-office/
CATEGORIES:Carousel
ATTACH;FMTTYPE=image/png:https://genesis-church.com/wp-content/uploads/2025/01/Switching-Off-Closed-Business-Books-Instagram-Post-e1737304657667.png
END:VEVENT
BEGIN:VEVENT
DTSTART;VALUE=DATE:20250131
DTEND;VALUE=DATE:20250202
DTSTAMP:20260419T132537
CREATED:20241016T190147Z
LAST-MODIFIED:20250128T161404Z
UID:1312-1738281600-1738454399@genesis-church.com
SUMMARY:Phoenix Youth Con
DESCRIPTION:For 6th through 12th grade\, it is a 2-day youth conference (Jan 31st – Feb 1st) of excellent speakers\, fantastic worship\, games\, prizes\, and food! \nThe price is $100. \nFor more details\, email Pastor DJ at: dj.uithoven@genesis-church.com.
URL:https://genesis-church.com/event/phoenix-youth-con/
LOCATION:Genesis Church
CATEGORIES:Carousel
ATTACH;FMTTYPE=image/jpeg:https://genesis-church.com/wp-content/uploads/2024/10/Black-and-Grey-Modern-Graffiti-Ginger-Company-Logo-Presentation-1.jpg
END:VEVENT
BEGIN:VEVENT
DTSTART;TZID=UTC:20250202T110000
DTEND;TZID=UTC:20250202T130000
DTSTAMP:20260419T132537
CREATED:20250109T160750Z
LAST-MODIFIED:20250109T185902Z
UID:1406-1738494000-1738501200@genesis-church.com
SUMMARY:Membership Class
DESCRIPTION:You have a place and a purpose at Genesis Church.\n\nCome learn the mission\, vision\, and priorities of Genesis Church and what it means to become a committed participant in our thriving community of changed lives\, changing lives. \nThis class will be held directly after service on Sunday and will take about two hours. Lunch will be provided. \nStep through the door of possibilities to what God has planned for you here and sign up.
URL:https://genesis-church.com/event/membership-class/
LOCATION:Genesis Church
CATEGORIES:Carousel
ATTACH;FMTTYPE=image/png:https://genesis-church.com/wp-content/uploads/2025/01/Screen-Shot-2025-01-09-at-9.01.13-AM.png
END:VEVENT
BEGIN:VEVENT
DTSTART;TZID=UTC:20250223T110000
DTEND;TZID=UTC:20250223T120000
DTSTAMP:20260419T132537
CREATED:20250129T173628Z
LAST-MODIFIED:20250129T173628Z
UID:1429-1740308400-1740312000@genesis-church.com
SUMMARY:Members Meeting
DESCRIPTION:Our quarterly member meetings are designed to help you stay up-to-date on things happening behind the scenes at Genesis. We will take a look at how things are progressing with our mission and strategy\, the business aspects of the church\, and a variety of upcoming plans for you to participate in. \nWe expect the meeting to last about an hour and childcare will be provided.
URL:https://genesis-church.com/event/members-meeting/
CATEGORIES:Carousel
ATTACH;FMTTYPE=image/jpeg:https://genesis-church.com/wp-content/uploads/2025/01/Members-Meeting.jpg
END:VEVENT
BEGIN:VEVENT
DTSTART;TZID=UTC:20250302T113000
DTEND;TZID=UTC:20250302T123000
DTSTAMP:20260419T132537
CREATED:20241022T175830Z
LAST-MODIFIED:20250205T185641Z
UID:1316-1740915000-1740918600@genesis-church.com
SUMMARY:Party in the Park
DESCRIPTION:Grab yourself some lunch after service and bring it over to the party in the park. We’ll toss some footballs and have a little family-friendly fun.
URL:https://genesis-church.com/event/party-in-the-park/
LOCATION:Roadrunner Park\, 3502 E Cactus Rd\, Phoenix\, AZ\, 85032\, United States
CATEGORIES:Carousel
ATTACH;FMTTYPE=image/jpeg:https://genesis-church.com/wp-content/uploads/2024/10/PartyInThePark-March-2025.jpg
END:VEVENT
BEGIN:VEVENT
DTSTART;TZID=UTC:20250305T183000
DTEND;TZID=UTC:20250305T193000
DTSTAMP:20260419T132537
CREATED:20250206T182635Z
LAST-MODIFIED:20250206T195125Z
UID:1439-1741199400-1741203000@genesis-church.com
SUMMARY:Ash Wednesday Service
DESCRIPTION:Ash Wednesday marks the first day of Lent\, the 40 days leading up to Easter.  Join us for this special service of worship and prayer. Please welcome Amp teens as they join us. Reminder: Childcare will not be provided.
URL:https://genesis-church.com/event/ash-wednesday-service/
CATEGORIES:Carousel
ATTACH;FMTTYPE=image/jpeg:https://genesis-church.com/wp-content/uploads/2025/02/ash_wednesday-2025.jpg
END:VEVENT
BEGIN:VEVENT
DTSTART;TZID=UTC:20250418T183000
DTEND;TZID=UTC:20250418T193000
DTSTAMP:20260419T132537
CREATED:20250325T200735Z
LAST-MODIFIED:20250325T200735Z
UID:1475-1745001000-1745004600@genesis-church.com
SUMMARY:Good Friday Service
DESCRIPTION:Join us for a special service as we remember the day Jesus willingly suffered and died as the ultimate sacrifice for our sins. \nChildcare will be provided.
URL:https://genesis-church.com/event/good-friday-service/
LOCATION:Genesis Church
CATEGORIES:Carousel
ATTACH;FMTTYPE=image/jpeg:https://genesis-church.com/wp-content/uploads/2025/03/good_friday-2025.jpg
END:VEVENT
BEGIN:VEVENT
DTSTART;TZID=UTC:20250518T110000
DTEND;TZID=UTC:20250608T120000
DTSTAMP:20260419T132537
CREATED:20250423T013407Z
LAST-MODIFIED:20250430T181523Z
UID:1515-1747566000-1749384000@genesis-church.com
SUMMARY:Deeper- 4 week class
DESCRIPTION:Sundays after service | May 18-June 8 \nThroughout our Unhurried series\, we were invited to slow down with Jesus and begin to take a posture of paying attention to God’s leading in our lives. This lead to the deeper questions about the reasons why\, the methods we could use to connect\, and how it feels to actually begin to live more unhurried. \nIn our new class\, “Deeper”\, we will look at the reasons we slow down and listen harder\, the methods we can use to make that posture possible\, and actually practice some ways of connection and listening. \nDeeper will be your opportunity to learn with others what it means to become unhurried and more peaceful while getting to try some things you have never done before in connecting with God. \nIf you’ve ever wanted to rest with God\, read the Bible with more impact\, and pray more confidently – Deeper is for you! \nMay 18\, Week 1 – Attitude of Sabbath: Sleep isn’t an option for us as humans\, and neither is rest with God. We will learn why and how to begin creating time with God for connection and rest. \nMay 25\, Week 2 – Reading for Impact: God’s word is our most reliable voice of truth and hope. We will discover how to read it so that it speaks to us and provides the most clear impact possible. \nJune 1\, Week 3 – Prayer in Motion: Talking to God doesn’t only mean sitting quietly thinking inside our own heads. We can\, and literally will\, pray together and also move locations during prayer. \nJune 8\, Week 4 – Rule of Life: A rule of life is a plan to intentionally incorporate spiritual practices into our lives daily\, weekly\, monthly\, and yearly. It provides a guide for participating with God in changing us through the consistent use of the practices. \nWe will see you in Room 2 Sunday after service for 4 weeks!
URL:https://genesis-church.com/event/deeper-4-week-class/
LOCATION:Genesis Church
CATEGORIES:Carousel
ATTACH;FMTTYPE=image/jpeg:https://genesis-church.com/wp-content/uploads/2025/04/Deeper-Course.jpg
END:VEVENT
BEGIN:VEVENT
DTSTART;TZID=UTC:20250616T180000
DTEND;TZID=UTC:20250619T200000
DTSTAMP:20260419T132537
CREATED:20240516T173445Z
LAST-MODIFIED:20250608T202515Z
UID:1174-1750096800-1750363200@genesis-church.com
SUMMARY:"True North" Vacation Bible School
DESCRIPTION:Finding your way in a world gone wild. \nMonday\, June 16th- Thursday\, June 19th | 6:00 PM-8:00 PM\n\nFor children exiting Kindergarten – children exiting 5th grade.\n\nYour kids will be taken on the ultimate Alaskan adventure where northern lights glow over majestic mountains\, racing rivers\, and glistening glaciers. As kids trek the tundra\, they’ll explore how easy it is to lose sight of what’s true in our wild world today. Pointing them toward Jesus\, True North VBS shows them that he is a faithful friend we can always trust. He’s our True North! \nPrice: $30\nFor families with three or more children: $60 total \nIncludes a t-shirt and dinner! \nDo you have a prop you can lend us? We are looking for camping gear and Christmas trees! \nCheck out the options: \nhttps://www.signupgenius.com/go/805044BAEA72BAA8-56896853-vbs#/
URL:https://genesis-church.com/event/scuba-vacation-bible-school/
LOCATION:Genesis Church
CATEGORIES:Carousel
ATTACH;FMTTYPE=image/jpeg:https://genesis-church.com/wp-content/uploads/2024/05/True-North-Invite-16x9-1.jpg
END:VEVENT
BEGIN:VEVENT
DTSTART;TZID=UTC:20250716T180000
DTEND;TZID=UTC:20250716T200000
DTSTAMP:20260419T132538
CREATED:20241105T181555Z
LAST-MODIFIED:20250624T172036Z
UID:1322-1752688800-1752696000@genesis-church.com
SUMMARY:AMP Youth Group
DESCRIPTION:AMP is a place for 6th thru 12th graders to meet at Genesis Church on Wednesday nights. We are so excited to get to know teenagers and their families. \nAMP has three desires for every student that comes: \n\nProvide a safe place for students to experience and learn about life.\nMake meaningful connections between students and adults who care deeply for them.\nTeach about and introduce students to Jesus. We do this through interactive games\, teaching\, and small groups of students and adults talking\, reading\, singing and living life together.\n\nCheck out a Wednesday night to find old friends\, meet new people\, and discover life with God together!
URL:https://genesis-church.com/event/amp-youth-group/
LOCATION:Genesis Church
CATEGORIES:Carousel
ATTACH;FMTTYPE=image/jpeg:https://genesis-church.com/wp-content/uploads/2024/11/Black-and-Grey-Modern-Graffiti-Ginger-Company-Logo-Presentation.jpg
END:VEVENT
BEGIN:VEVENT
DTSTART;TZID=UTC:20250720T180000
DTEND;TZID=UTC:20250720T200000
DTSTAMP:20260419T132538
CREATED:20250604T182658Z
LAST-MODIFIED:20250604T182658Z
UID:1539-1753034400-1753041600@genesis-church.com
SUMMARY:Summer Game Night
DESCRIPTION:Bring your game face and a friend or two — it’s going to be a great night of laughter\, connection\, and fun.\nEnjoy the games we provide or bring some favorites of yours.\nWe hope to see you there!
URL:https://genesis-church.com/event/summer-game-night/
LOCATION:Genesis Church
CATEGORIES:Carousel
ATTACH;FMTTYPE=image/jpeg:https://genesis-church.com/wp-content/uploads/2025/06/Summer-Game-Night-July.jpg
END:VEVENT
BEGIN:VEVENT
DTSTART;VALUE=DATE:20250727
DTEND;VALUE=DATE:20250728
DTSTAMP:20260419T132538
CREATED:20250624T171829Z
LAST-MODIFIED:20250624T171914Z
UID:1557-1753574400-1753660799@genesis-church.com
SUMMARY:Backpack Drive
DESCRIPTION:Join us in supporting kids and families in our local community at Indian Bend Elementary School. \nYou can make a difference by helping us reach our goal of collecting 75 backpacks full of school supplies for the 2025/2026 school year. \nGrab a supply list at the Welcome Center this Sunday or download it here. \nPlease bring the completed backpacks to the church by July 27th so that we can donate them before the school year starts.
URL:https://genesis-church.com/event/backpack-drive/
LOCATION:Genesis Church
CATEGORIES:Carousel
ATTACH;FMTTYPE=image/jpeg:https://genesis-church.com/wp-content/uploads/2025/06/Backpack-Drive-copy.jpg
END:VEVENT
BEGIN:VEVENT
DTSTART;TZID=UTC:20250824T180000
DTEND;TZID=UTC:20250824T200000
DTSTAMP:20260419T132538
CREATED:20250604T182746Z
LAST-MODIFIED:20250731T190437Z
UID:1542-1756058400-1756065600@genesis-church.com
SUMMARY:Summer Game Night
DESCRIPTION:Bring your game face and a friend or two — it’s going to be a great night of laughter\, connection\, and fun.\nEnjoy the games we provide or bring some favorites of yours.\nWe hope to see you there!
URL:https://genesis-church.com/event/summer-game-night-2/
LOCATION:Genesis Church
CATEGORIES:Carousel
ATTACH;FMTTYPE=image/jpeg:https://genesis-church.com/wp-content/uploads/2025/06/Summer-Game-Night-August-1.jpg
END:VEVENT
BEGIN:VEVENT
DTSTART;TZID=UTC:20250906T080000
DTEND;TZID=UTC:20250906T100000
DTSTAMP:20260419T132538
CREATED:20250819T194039Z
LAST-MODIFIED:20250819T194122Z
UID:1615-1757145600-1757152800@genesis-church.com
SUMMARY:Men's Breakfast
DESCRIPTION:Join us for a time to connect\, recharge\, and grow together in faith.\nWhether you’re a regular or it’s your first time\, all men are welcome. \nCome hungry—leave filled in more ways than one!
URL:https://genesis-church.com/event/mens-breakfast/
CATEGORIES:Carousel
ATTACH;FMTTYPE=image/jpeg:https://genesis-church.com/wp-content/uploads/2025/08/unnamed.jpg
END:VEVENT
BEGIN:VEVENT
DTSTART;TZID=UTC:20250907T110000
DTEND;TZID=UTC:20250907T120000
DTSTAMP:20260419T132538
CREATED:20250820T205104Z
LAST-MODIFIED:20250827T203353Z
UID:1618-1757242800-1757246400@genesis-church.com
SUMMARY:"Rooted" Meet & Greet
DESCRIPTION:Come meet your Rooted Group Leaders after service! \nWe’re excited to help you build deeper connections within the Genesis community through Rooted. By joining a group\, you’ll grow alongside others who share your faith\, creating bonds that inspire change in your life and in the lives of those around you. \nIf you’re interested in being a part of Rooted this fall\, join us after service to meet our group leaders and find the best fit for you.
URL:https://genesis-church.com/event/groups-kick-off/
CATEGORIES:Carousel
ATTACH;FMTTYPE=image/jpeg:https://genesis-church.com/wp-content/uploads/2025/08/746bf1c2-b125-2343-4a63-18e3a7b5947b.jpg
END:VEVENT
BEGIN:VEVENT
DTSTART;TZID=UTC:20250914T180000
DTEND;TZID=UTC:20250914T200000
DTSTAMP:20260419T132538
CREATED:20250807T173313Z
LAST-MODIFIED:20260205T180312Z
UID:1598-1757872800-1757880000@genesis-church.com
SUMMARY:Rooted Celebration
DESCRIPTION:
URL:https://genesis-church.com/event/rooted-kick-off/
LOCATION:Genesis Church
CATEGORIES:Carousel
ATTACH;FMTTYPE=image/jpeg:https://genesis-church.com/wp-content/uploads/2025/08/Rooted.jpg
END:VEVENT
BEGIN:VEVENT
DTSTART;TZID=UTC:20250924T180000
DTEND;TZID=UTC:20250924T200000
DTSTAMP:20260419T132538
CREATED:20250904T205754Z
LAST-MODIFIED:20250904T205754Z
UID:1651-1758736800-1758744000@genesis-church.com
SUMMARY:AMP MYSTERY NIGHT
DESCRIPTION:Calling all 6th through 12th graders!\nYou and your friends are invited to join us for our AMP Mystery Night! \nMeet us Wednesday night at Genesis at 6 PM with $20 in your pocket and a handful of friends. We’re going off campus for a surprise outing and will be back by\n8 PM.\nIn order to participate\, you will need your guardians to sign this liability waiver.
URL:https://genesis-church.com/event/amp-mystery-night/
LOCATION:Genesis Church
CATEGORIES:Carousel
ATTACH;FMTTYPE=image/png:https://genesis-church.com/wp-content/uploads/2025/09/Mystery-Night-v.2.png
END:VEVENT
BEGIN:VEVENT
DTSTART;TZID=UTC:20251015T180000
DTEND;TZID=UTC:20251015T200000
DTSTAMP:20260419T132538
CREATED:20250925T212848Z
LAST-MODIFIED:20250925T212848Z
UID:1670-1760551200-1760558400@genesis-church.com
SUMMARY:AMP-FEST
DESCRIPTION:WEDNESDAY\, OCTOBER 15 | 6:00-8:00 PM \nBring a friend…or three!\nCome for the food and the fun\, but get ready to connect deeply with each other and our guests.\nThis is an opportunity for your friends to get better connected to you\, Jesus\,  and AMP.\nWear neon or white and be ready to get a little bit messy!\nWe will have plenty of food\, glow sticks and fun for everybody\, so bring along your crew.
URL:https://genesis-church.com/event/amp-fest/
LOCATION:Genesis Church
CATEGORIES:Carousel
ATTACH;FMTTYPE=image/jpeg:https://genesis-church.com/wp-content/uploads/2025/09/961e7365-88a0-9d1d-0866-bf1759b5715b.jpg
END:VEVENT
BEGIN:VEVENT
DTSTART;TZID=UTC:20251026T173000
DTEND;TZID=UTC:20251026T193000
DTSTAMP:20260419T132538
CREATED:20250903T205152Z
LAST-MODIFIED:20250903T205152Z
UID:1648-1761499800-1761507000@genesis-church.com
SUMMARY:Trunk or Treat
DESCRIPTION:Join us for a safe\, free\, fall event- fun for all ages! \nCome for the food\, but stay for the face painting\, obstacle course\, and giant slides. Little ones\, get ready to load up on candy at the Trunk or Treat! \nWe cannot wait to see you there! \nIf you’re ready to make an impact in our community\, sign up here to volunteer!
URL:https://genesis-church.com/event/trunk-or-treat/
LOCATION:Genesis Church
CATEGORIES:Carousel
ATTACH;FMTTYPE=image/jpeg:https://genesis-church.com/wp-content/uploads/2025/09/Trunk-or-Treat-2025-Graphic.jpg
END:VEVENT
BEGIN:VEVENT
DTSTART;TZID=UTC:20251116T111500
DTEND;TZID=UTC:20251116T131500
DTSTAMP:20260419T132538
CREATED:20251030T191034Z
LAST-MODIFIED:20251030T194535Z
UID:1696-1763291700-1763298900@genesis-church.com
SUMMARY:Membership Class
DESCRIPTION:You have a place and a purpose at Genesis Church. \nCome learn the mission\, vision\, and priorities of Genesis Church and what it means to become a committed participant in our thriving community of changed lives\, changing lives.\nThis class will be held directly after service on Sunday and will take about two hours. \nSign up today! \n 
URL:https://genesis-church.com/event/membership-class-2/
LOCATION:Genesis Church
CATEGORIES:Carousel
ATTACH;FMTTYPE=image/jpeg:https://genesis-church.com/wp-content/uploads/2025/10/membership_class.jpg
END:VEVENT
BEGIN:VEVENT
DTSTART;VALUE=DATE:20251126
DTEND;VALUE=DATE:20251127
DTSTAMP:20260419T132538
CREATED:20251124T220537Z
LAST-MODIFIED:20251124T220537Z
UID:1728-1764115200-1764201599@genesis-church.com
SUMMARY:NO AMP
DESCRIPTION:There is no AMP on Wednesday\, November 26th. We hope to see you at the Turkey Bowl Friday!
URL:https://genesis-church.com/event/no-amp/
LOCATION:Genesis Church
CATEGORIES:Carousel
ATTACH;FMTTYPE=image/jpeg:https://genesis-church.com/wp-content/uploads/2025/08/AMP-2025.jpg
END:VEVENT
BEGIN:VEVENT
DTSTART;TZID=UTC:20251128T090000
DTEND;TZID=UTC:20251128T110000
DTSTAMP:20260419T132538
CREATED:20251105T211508Z
LAST-MODIFIED:20251105T211508Z
UID:1708-1764320400-1764327600@genesis-church.com
SUMMARY:AMP Turkey Bowl
DESCRIPTION:Come for a morning of flag football\, fresh air\, and great company! \n\n\nGet ready to run\, laugh\, and maybe work off some of that Thanksgiving pie. \n\n\nEveryone 6th through 12th grade is welcome- including family and friends! \n\n\nSee you @ Desert Horizon Park: \n\n\n16002 56th St\, Scottsdale\, AZ 85254
URL:https://genesis-church.com/event/amp-turkey-bowl/
LOCATION:16002 56th St\, Scottsdale\, AZ 85254
CATEGORIES:Carousel
ATTACH;FMTTYPE=image/jpeg:https://genesis-church.com/wp-content/uploads/2025/11/Turkey-Bowl-2025.jpg
END:VEVENT
BEGIN:VEVENT
DTSTART;TZID=UTC:20251207T180000
DTEND;TZID=UTC:20251207T200000
DTSTAMP:20260419T132538
CREATED:20251119T202722Z
LAST-MODIFIED:20251119T202722Z
UID:1716-1765130400-1765137600@genesis-church.com
SUMMARY:Drive-In Movie
DESCRIPTION:Bring your blankets\, chairs\, friends\, and neighbors to our parking lot viewing of Elf on the big screens. \nCome hungry and ready to support our AMP teens as they fundraise for their winter retreat. \nFresh popcorn is on the house!
URL:https://genesis-church.com/event/drive-in-movie/
LOCATION:Genesis Church
CATEGORIES:Carousel
ATTACH;FMTTYPE=image/jpeg:https://genesis-church.com/wp-content/uploads/2025/11/Drive-In-Elf.jpg
END:VEVENT
BEGIN:VEVENT
DTSTART;TZID=UTC:20251212T180000
DTEND;TZID=UTC:20251212T200000
DTSTAMP:20260419T132538
CREATED:20251124T215646Z
LAST-MODIFIED:20251124T215646Z
UID:1720-1765562400-1765569600@genesis-church.com
SUMMARY:Women's Christmas Celebration
DESCRIPTION:Ladies of all ages: Bring your friends\, family\, and neighbors for some holiday cheer.\nBring a wrapped ornament to exchange for $10 or less and meet us in the Auditorium!
URL:https://genesis-church.com/event/womens-christmas-celebration/
LOCATION:Genesis Church
CATEGORIES:Carousel
ATTACH;FMTTYPE=image/png:https://genesis-church.com/wp-content/uploads/2025/11/Womens-Christmas-Celebration.png
END:VEVENT
BEGIN:VEVENT
DTSTART;TZID=UTC:20251224T170000
DTEND;TZID=UTC:20251224T180000
DTSTAMP:20260419T132538
CREATED:20251124T220246Z
LAST-MODIFIED:20251124T220246Z
UID:1725-1766595600-1766599200@genesis-church.com
SUMMARY:Christmas Eve Service
DESCRIPTION:Long before Jesus was born\, the prophet Isaiah gave Him four names—each one a window into who He would be for us. In this Advent series\, we’ll explore how Jesus meets our deepest needs: guiding our steps\, strengthening our hearts\, loving us like a Father\, and bringing peace to our chaos. \nOn Christmas Eve\, we’ll celebrate the One who embodies them all—our Savior.
URL:https://genesis-church.com/event/christmas-eve-service/
LOCATION:Genesis Church
CATEGORIES:Carousel
ATTACH;FMTTYPE=image/jpeg:https://genesis-church.com/wp-content/uploads/2025/11/He-Shall-Be-Called-1.jpg
END:VEVENT
BEGIN:VEVENT
DTSTART;TZID=UTC:20260116T183000
DTEND;TZID=UTC:20260116T203000
DTSTAMP:20260419T132538
CREATED:20251222T205415Z
LAST-MODIFIED:20251223T200414Z
UID:1743-1768588200-1768595400@genesis-church.com
SUMMARY:Vision Night
DESCRIPTION:FRIDAY\, JANUARY 16 | 6:30 PM\nJoin us for a time of prayer\, worship\, and a glimpse of what God has planned for Genesis for 2026. Children’s programming and dinner will be available for kids ages 0-5th grade.
URL:https://genesis-church.com/event/vision-night-2/
LOCATION:Genesis Church
CATEGORIES:Carousel
ATTACH;FMTTYPE=image/jpeg:https://genesis-church.com/wp-content/uploads/2024/12/unnamed-1-1.jpg
END:VEVENT
BEGIN:VEVENT
DTSTART;VALUE=DATE:20260123
DTEND;VALUE=DATE:20260125
DTSTAMP:20260419T132538
CREATED:20250827T203550Z
LAST-MODIFIED:20250827T203550Z
UID:1638-1769126400-1769299199@genesis-church.com
SUMMARY:PHOENIX YOUTH CON
DESCRIPTION:January 23 – 24\nChandler\, Arizona\nCalling all 6th through 12th graders! \nJoin us for PHX YTH CON\, a two-day retreat for students.\nYou are not going to want to miss this youth conference at Cornerstone Church in Chandler featuring incredible speakers\, fantastic worship\, games\, prizes\, and food! \nWe will travel together to Chandler for the conference and sleep overnight Friday at Genesis.\nFood all day Saturday is provided with your registration fee. \nQuestions or need a scholarship? Email Pastor DJ.\nWhen you’re ready\, register here!
URL:https://genesis-church.com/event/phoenix-youth-con-2/
LOCATION:Genesis Church
CATEGORIES:Carousel
ATTACH;FMTTYPE=image/png:https://genesis-church.com/wp-content/uploads/2025/08/f74d1915-15db-5bc9-3d85-0bdc3534b632.png
END:VEVENT
END:VCALENDAR